BEGIN:VCALENDAR
VERSION:2.0
PRODID:-//biosphaere.ruhr - ECPv6.15.20//NONSGML v1.0//EN
CALSCALE:GREGORIAN
METHOD:PUBLISH
X-WR-CALNAME:biosphaere.ruhr
X-ORIGINAL-URL:https://biosphaere.ruhr
X-WR-CALDESC:Veranstaltungen für biosphaere.ruhr
REFRESH-INTERVAL;VALUE=DURATION:PT1H
X-Robots-Tag:noindex
X-PUBLISHED-TTL:PT1H
BEGIN:VTIMEZONE
TZID:UTC
BEGIN:STANDARD
TZOFFSETFROM:+0000
TZOFFSETTO:+0000
TZNAME:UTC
DTSTART:20230101T000000
END:STANDARD
END:VTIMEZONE
BEGIN:VEVENT
DTSTART;VALUE=DATE:20240315
DTEND;VALUE=DATE:20251201
DTSTAMP:20260420T094948
CREATED:20240320T113320Z
LAST-MODIFIED:20241120T094900Z
UID:2563-1710460800-1764547199@biosphaere.ruhr
SUMMARY:Gasometer Oberhausen | „Planet Ozean“\, Ausstellung verlängert bis 30.11.2025
DESCRIPTION:Seit März 2024 präsentiert „Planet Ozean“ die faszinierende Schönheit der Weltmeere und ihrer vielfältigen Lebensformen. Dafür führt die innovative Schau in kaum bekannte Tiefen dieses komplexen Ökosystems. \n\n\n\nDie Öffnungszeiten des Gasometer Oberhausen sind Dienstag bis Sonntag 10 bis 18 Uhr. In den NRW-Ferien oder an Feiertagen ist der Gasometer durchgehend\, also auch am Montag von 10 bis 18 Uhr\, geöffnet. Da die Kathedrale der Industriekultur ein Bauwerk mit beachtlichen Abmessungen ist\, wird um 17:45 Uhr zunächst das Panoramadach\, dann die erste Ebene und zum Schluss das Erdgeschoss geräumt\, sodass alle Besucher auch bis 18 Uhr das Gebäude verlassen können. Kassenschluss ist 17:30 Uhr. \nInfotelefon am Gasometer: 0208.21295 (täglich 10-18 Uhr)\nTelefon der Gasometer GmbH: 0208.850 37 30 (Mo. bis Do. 8-16:30 Uhr; Fr. bis 13 Uhr)\nFührungsanfragen per Mail an ausstellung@gasometer.de \nAufgrund der hohen Nachfrage kann es unter Umständen zu Wartezeiten kommen.\nHinweis zur Telefonanlage: Leider ertönt kein Besetztzeichen\, wenn alle Mitarbeiter bereits im Gespräch sind.“ \nTextquelle und weitere Infos\, unter: www.gasometer.de
URL:https://biosphaere.ruhr/event/gasometer-oberhausen-planet-ozean-ausstellung-von-15-3-bis-31-12-2024/
END:VEVENT
BEGIN:VEVENT
DTSTART;VALUE=DATE:20250322
DTEND;VALUE=DATE:20251027
DTSTAMP:20260420T094948
CREATED:20250625T170208Z
LAST-MODIFIED:20250625T170208Z
UID:3311-1742601600-1761523199@biosphaere.ruhr
SUMMARY:LWL-Museum Zeche Hannover | Ausstellung: >>IndustrieInsekten. In einem unbekannten Land
DESCRIPTION:  \n\n\nSchillernde Farben\, fremdartige Formen und erstaunliche Fähigkeiten. Insekten sind faszinierend. Doch die Bestände schwinden\, viele Arten sind vom Aussterben bedroht. Auf Industriebrachen finden Insekten heute neue Lebensräume und besondere Biotope. Ute Matzkows und Klaus Rieboldt waren mit ihren Kameras auf den Arealen der acht LWL-Museen für Industriekultur unterwegs. Sie nehmen uns mit in das unbekannte Land der „IndustrieInsekten“ und erlauben Begegnungen auf Augenhöhe. Ihre Aufnahmen zeigen auf spektakuläre Art und Weise die Schönheit der Natur und regen zum Nachdenken an. \n  \nLaufzeit: Samstag\, 22.3. bis Sonntag\, 26.10.2025 \nMi – Sa: 14 – 18 Uhr Sonn- und Feiertage: 11 – 18 Uhr \nKosten / Eintritt: Museumseintritt \nOrt: LWL-Museum Zeche Hannover\, Günnigfelder Straße 251\, 44793 Bochum \nLink: https://zeche-hannover.lwl.org/de/ausstellungen/industrieinsekten
URL:https://biosphaere.ruhr/event/lwl-museum-zeche-hannover-ausstellung-industrieinsekten-in-einem-unbekannten-land/
END:VEVENT
END:VCALENDAR